BEGIN:VCALENDAR
VERSION:2.0
PRODID:-//Intand Corporation//Tandem//EN
METHOD:PUBLISH
BEGIN:VEVENT
DTSTAMP:20260420T185757Z
DTSTART:20260528T180000Z
DTEND:20260528T213000Z
TRANSP:TRANSPARENT
PRIORITY:0
SUMMARY:Elementary End of Year Party
LOCATION:West Playground\, Front Lawn\, East Playground\, Kitchen
DESCRIPTION:Setup: 8:00 am\nBreakdown: 3:00 pm\n\nGroups:\n3rd Grade\n4th 
 Grade\n2nd Grade\n1st Grade\n5th Grade\nCardinal Call\nSocial Media\nFront
  Office Announcements\n\nSchools:\nSanta Clarita Baptist Church\nSanta Cla
 rita Christian School\n\nLocations:\nWest Playground\nFront Lawn\nEast Pla
 yground\nKitchen\n\nContacts:\nStef Schlegel\nShauna Golphenee\nStephanie 
 Banke\n\n
URL;VALUE=URI:https://sccs.tandem.co/index.php?type=view&action=event&id=6
 4451
CREATED:20260417T172719Z
LAST-MODIFIED:20260418T145707Z
UID:event_request-64451-sccs@intand.com
END:VEVENT
END:VCALENDAR
