BEGIN:VCALENDAR
VERSION:2.0
PRODID:-//Intand Corporation//Tandem//EN
METHOD:PUBLISH
BEGIN:VEVENT
DTSTAMP:20260420T180253Z
DTSTART:20260422T171500Z
DTEND:20260422T181500Z
TRANSP:TRANSPARENT
PRIORITY:0
SUMMARY:Powder Puff
LOCATION:Front Lawn
DESCRIPTION:Groups:\nAthletic Department\n\nSchools:\nSanta Clarita Baptis
 t Church\nSanta Clarita Christian School\n\nLocation:\nFront Lawn\n\n
URL;VALUE=URI:https://sccs.tandem.co/index.php?type=view&action=event&id=6
 3358
CREATED:20260113T190548Z
LAST-MODIFIED:20260416T171035Z
UID:event_request-63358-sccs@intand.com
END:VEVENT
END:VCALENDAR
