BEGIN:VCALENDAR
VERSION:2.0
PRODID:-//Intand Corporation//Tandem//EN
METHOD:PUBLISH
BEGIN:VEVENT
DTSTAMP:20260424T155448Z
DTSTART:20260424T143000Z
DTEND:20260424T144500Z
TRANSP:TRANSPARENT
PRIORITY:0
SUMMARY:Senior Sweet Treat
LOCATION:Front Lawn
DESCRIPTION:Groups:\n12th Grade\n\nSchools:\nSanta Clarita Baptist Church\
 nSanta Clarita Christian School\n\nLocation:\nFront Lawn\n\n2  Table 8'\n\
 nStephanie Schaumberg\n\n
URL;VALUE=URI:https://sccs.tandem.co/index.php?type=view&action=event&id=6
 2160
CREATED:20251020T193729Z
LAST-MODIFIED:20260416T184503Z
UID:event-62160-sccs@intand.com
END:VEVENT
END:VCALENDAR
